BEGIN:VCALENDAR
VERSION:2.0
PRODID:-//Ram Ratna International School - ECPv6.15.12.2//NONSGML v1.0//EN
CALSCALE:GREGORIAN
METHOD:PUBLISH
X-WR-CALNAME:Ram Ratna International School
X-ORIGINAL-URL:https://rrischool.org
X-WR-CALDESC:Events for Ram Ratna International School
REFRESH-INTERVAL;VALUE=DURATION:PT1H
X-Robots-Tag:noindex
X-PUBLISHED-TTL:PT1H
BEGIN:VTIMEZONE
TZID:UTC
BEGIN:STANDARD
TZOFFSETFROM:+0000
TZOFFSETTO:+0000
TZNAME:UTC
DTSTART:20200101T000000
END:STANDARD
END:VTIMEZONE
BEGIN:VEVENT
DTSTART;TZID=UTC:20210208T153000
DTEND;TZID=UTC:20210208T163000
DTSTAMP:20260421T175454
CREATED:20210206T060852Z
LAST-MODIFIED:20210206T062239Z
UID:1590-1612798200-1612801800@rrischool.org
SUMMARY:Aadharshila Talks @ RRIS - Talk 44 - Giving children ownership of their learning - Ms Srividya Mouli
DESCRIPTION:📚🎓 In the increasingly evolving space of education\, change is the new constant. As we move from content-centric learning to learner-centric learning\, learning ownership is one aspect that will drive knowledge seekers. On Aadharshila Talks @ RRIS – Talk 44\, Ms Srividya Mouli explains the nuances of this concept. 🤓 \n📡Register to join us live on Monday\, 8th February at 3.30 pm. https://bit.ly/Aadharshila \nOr \nWatch live on Youtube
URL:https://rrischool.org/event/aadharshila-talks-rris-talk-44-giving-children-ownership-of-their-learning-srividya-mouli/
LOCATION:Ram Ratna International School\, Online event\, Bhayander West\, Mahara\, 401106\, India
CATEGORIES:Aadharshila Talks @ RRIS,Weekly event
ATTACH;FMTTYPE=image/png:https://rrischool.org/wp-content/uploads/2021/02/RRIS-aadharshila-FB-72.png
END:VEVENT
END:VCALENDAR